BEGIN:VCALENDAR
VERSION:2.0
PRODID:-//Melissa Smith - ECPv6.15.20//NONSGML v1.0//EN
CALSCALE:GREGORIAN
METHOD:PUBLISH
X-WR-CALNAME:Melissa Smith
X-ORIGINAL-URL:https://melissasmith4mt.com
X-WR-CALDESC:Events for Melissa Smith
REFRESH-INTERVAL;VALUE=DURATION:PT1H
X-Robots-Tag:noindex
X-PUBLISHED-TTL:PT1H
BEGIN:VTIMEZONE
TZID:UTC
BEGIN:STANDARD
TZOFFSETFROM:+0000
TZOFFSETTO:+0000
TZNAME:UTC
DTSTART:20210101T000000
END:STANDARD
END:VTIMEZONE
BEGIN:VEVENT
DTSTART;TZID=UTC:20221017T180000
DTEND;TZID=UTC:20221017T193000
DTSTAMP:20260424T042303
CREATED:20221003T215949Z
LAST-MODIFIED:20221003T215949Z
UID:1061-1666029600-1666035000@melissasmith4mt.com
SUMMARY:Penny Ronning Town Hall Meeting
DESCRIPTION:[vc_row][vc_column][vc_gallery type=”image_grid” images=”1044″ img_size=”400×300″][vc_column_text css=”.vc_custom_1664834320358{margin-bottom: 0px !important;}”]Town Hall Meeting with District 2 Congressional Candidate Penny Ronning[/vc_column_text][/vc_column][/vc_row]
URL:https://melissasmith4mt.com/event/penny-ronning-town-hall-meeting-2/
LOCATION:Gibson Room in The Mansfield Center for the Performing Arts\, 2 Park Drive\, Great Falls\, MT\, 59401\, United States
END:VEVENT
BEGIN:VEVENT
DTSTART;TZID=UTC:20221017T163000
DTEND;TZID=UTC:20221017T173000
DTSTAMP:20260424T042303
CREATED:20221003T182941Z
LAST-MODIFIED:20221003T215941Z
UID:1047-1666024200-1666027800@melissasmith4mt.com
SUMMARY:Candidate Meet and Greet
DESCRIPTION:[vc_row][vc_column][vc_gallery type=”image_grid” images=”1045″ img_size=”400×300″][vc_column_text disable_pattern=”false” css=”.vc_custom_1664834403179{margin-bottom: 0px !important;}”]Meet & Greet all of the Democrat women candidates running for house districts in Cascade county — Melissa Smith\, Barb Bessette\, Lela Graham\, Jasmine Krotkov\, Lela Graham\, Kari Rosenleaf\, and Samantha Rispens — and help them get out the vote and win in November 8[/vc_column_text][/vc_column][/vc_row]
URL:https://melissasmith4mt.com/event/candidate-meet-greet/
LOCATION:Gibson Room in The Mansfield Center for the Performing Arts\, 2 Park Drive\, Great Falls\, MT\, 59401\, United States
END:VEVENT
BEGIN:VEVENT
DTSTART;TZID=UTC:20221017T040000
DTEND;TZID=UTC:20221017T173000
DTSTAMP:20260424T042303
CREATED:20221011T184330Z
LAST-MODIFIED:20221012T160703Z
UID:1069-1665979200-1666027800@melissasmith4mt.com
SUMMARY:Join the Montana Democrats for a Women's Fundraiser!
DESCRIPTION:We are lucky to have so many incredible women running for office in Great Falls! Join us to show them your support before election day! \n\nBarbara Bessette\nKari Rosenleaf\nJasmine Krotkov\nLela Graham\nMelissa Smith\nSamantha Rispens\n\nVisit us on Facebook join-the-montana-democrats\nGet your tickets now at secure.actblue.com/donate/greatfallswomen
URL:https://melissasmith4mt.com/event/join-the-montana-democrats-for-a-womens-fundraiser/
LOCATION:Gibson Room in The Mansfield Center for the Performing Arts\, 2 Park Drive\, Great Falls\, MT\, 59401\, United States
END:VEVENT
BEGIN:VEVENT
DTSTART;TZID=UTC:20221008T123000
DTEND;TZID=UTC:20221008T140000
DTSTAMP:20260424T042303
CREATED:20221003T171425Z
LAST-MODIFIED:20221003T183118Z
UID:1035-1665232200-1665237600@melissasmith4mt.com
SUMMARY:Reproductive Rights Rally!
DESCRIPTION:[vc_row][vc_column][vc_gallery type=”image_grid” images=”1043″ img_size=”medium”][vc_column_text]Join us Saturday October 8th for a national day of action to help send the message that We Demand Reproductive Rights! \nPeople across the country are uniting for a fall of reckoning. We will NOT sit back and accept the attacks on families\, futures\, and our freedoms. \nOctober 8th marks 30 days until Election Day- lets unite to elect women and pro-choice candidates in Great Falls\, Cascade County\, and across Montana![/vc_column_text][/vc_column][/vc_row]
URL:https://melissasmith4mt.com/event/reproductive-rights-rally/
LOCATION:Central Ave West Bridge\, Central Ave West Bridge\, Great Falls\, MT\, 59401\, United States
END:VEVENT
BEGIN:VEVENT
DTSTART;TZID=UTC:20221006T160000
DTEND;TZID=UTC:20221006T180000
DTSTAMP:20260424T042303
CREATED:20221003T171128Z
LAST-MODIFIED:20221003T183140Z
UID:1019-1665072000-1665079200@melissasmith4mt.com
SUMMARY:Day of Action!
DESCRIPTION:[vc_row][vc_column][vc_gallery type=”image_grid” images=”1025\,1024″ img_size=”300×400″][vc_column_text disable_pattern=”false” css=”.vc_custom_1664816957745{margin-bottom: 0px !important;}”]Join legislative candidates Melissa Smith (House District 23) and Jacob Bachmeier (Senate District 12) for a day of action! We are in need of volunteers and there is something for everyone including door knocking\, lit dropping\, voter registration\, phone banking\, sign building/delivering\, and more. Food\, snacks\, and drinks will be available. Please bring and invite friends and family. The more the merrier![/vc_column_text][/vc_column][/vc_row]
URL:https://melissasmith4mt.com/event/day-of-action/
LOCATION:405 Central Ave\, 405 Central Ave\, Great Falls\, 59401\, United States
END:VEVENT
BEGIN:VEVENT
DTSTART;TZID=UTC:20220202T190000
DTEND;TZID=UTC:20220202T210000
DTSTAMP:20260424T042303
CREATED:20220203T021625Z
LAST-MODIFIED:20220203T021625Z
UID:853-1643828400-1643835600@melissasmith4mt.com
SUMMARY:Melissa visits Neighborhood Council 6
DESCRIPTION:
URL:https://melissasmith4mt.com/event/melissa-visits-neighborhood-council-6/
LOCATION:Sunnyside School\, 1800 19th Street South\, MT\, 59405\, United States
END:VEVENT
BEGIN:VEVENT
DTSTART;TZID=UTC:20220202T190000
DTEND;TZID=UTC:20220202T200000
DTSTAMP:20260424T042303
CREATED:20220130T173830Z
LAST-MODIFIED:20220130T173830Z
UID:773-1643828400-1643832000@melissasmith4mt.com
SUMMARY:Neighborhood Council 6 Meeting
DESCRIPTION:Melissa will be addressing the Neighborhood Council 6 meeting.
URL:https://melissasmith4mt.com/event/neighborhood-council-6-meeting/
LOCATION:Sunnyside School\, 1800 19th Street South\, MT\, 59405\, United States
END:VEVENT
BEGIN:VEVENT
DTSTART;TZID=UTC:20220106T170000
DTEND;TZID=UTC:20220106T180000
DTSTAMP:20260424T042303
CREATED:20211231T213823Z
LAST-MODIFIED:20220104T205702Z
UID:610-1641488400-1641492000@melissasmith4mt.com
SUMMARY:We the People: Jan 6th Day of Remembrance and Action
DESCRIPTION:January 6\, 2022\, marks a full year since a violent mob was incited to attack our Nation’s Capitol in Washington\, D. C.\, in an attempt to overturn the results of a democratic election. As ongoing House investigative committee hearings reveal more about those responsible for the insurrection\, grassroots groups across the nation are planning vigils to mark the date as a Day of Remembrance. Community and faith leaders from around Great Falls will offer prayers. Participants are asked to bring battery-operated candles to hold during the vigil\, and dress warmly. The event is free and open to all\, and should last no more than an hour. \nContact: (for more information or to offer a prayer):\nMelissa Smith\, 406-315-3733\, mls3ster@gmail.com
URL:https://melissasmith4mt.com/event/test-event/
LOCATION:Cascade County Courthouse Lawn\, 415 2nd Avenue N\, Great Falls\, MT\, 59401\, United States
END:VEVENT
END:VCALENDAR